BEGIN:VCALENDAR
VERSION:2.0
PRODID:-//Drupal//Custom iCal//EN
BEGIN:VEVENT
UID:c23e338e4b5677c0d16f381411a9ac83
DTSTAMP:20260419T130027Z
DTSTART:20190224T140000Z
DTEND:20190227T160000Z
SUMMARY:Global Leadership and Management Trends
LOCATION:Conference Room 4\, Multaqa (Education City Student Center)
URL:https://hbku.wufoo.com/forms/q1k638i713hs64k/
END:VEVENT
END:VCALENDAR