BEGIN:VCALENDAR
VERSION:2.0
PRODID:-//Drupal//Custom iCal//EN
BEGIN:VEVENT
UID:3e28d7a06211117cc6fb5b97d05ccfc2
DTSTAMP:20260424T200506Z
DTSTART:20181210T160000Z
DTEND:20181210T180000Z
SUMMARY:Circular Economy: Aspirations, Realities and Opportunities
LOCATION:Auditorium\, Minaretein (College of Islamic Studies building)\, Education City
URL:
END:VEVENT
END:VCALENDAR