BEGIN:VCALENDAR
VERSION:2.0
PRODID:-//Drupal//Custom iCal//EN
BEGIN:VEVENT
UID:6b14eafe2f8e7bea3b3d4248f6841864
DTSTAMP:20260423T154755Z
DTSTART:20181001T140000Z
DTEND:20181017T160000Z
SUMMARY:Co-Active Coaching: Empower Yourself and Achieve Life Goals (In English)
LOCATION:Conference Room 5\, Education City  Student Center
URL:
END:VEVENT
END:VCALENDAR