BEGIN:VCALENDAR
VERSION:2.0
PRODID:-//Drupal//Custom iCal//EN
BEGIN:VEVENT
UID:9c0cbad2b173940227cefb29d54ad49a
DTSTAMP:20260423T155038Z
DTSTART:20180429T160000Z
DTEND:20180429T180000Z
SUMMARY:Public Lecture: Halal Tourism in the 21st Century
LOCATION:Conference Room 1\, College of Islamic Studies building\, Education City
URL:
END:VEVENT
END:VCALENDAR