BEGIN:VCALENDAR
VERSION:2.0
PRODID:-//Drupal//Custom iCal//EN
BEGIN:VEVENT
UID:9a11dc7d821fc78a11002e9e87c194f9
DTSTAMP:20260425T135924Z
DTSTART:20180228T130000Z
DTEND:20180228T140000Z
SUMMARY:A Series of Seminars: HBKU-Qatar Shell Joint Research
LOCATION:Lecture Hall A\, LAS Building\, Education City
URL:
END:VEVENT
END:VCALENDAR