BEGIN:VCALENDAR
VERSION:2.0
PRODID:-//Drupal//Custom iCal//EN
BEGIN:VEVENT
UID:f41d29be2ed10d7fe611fd45e4f7939e
DTSTAMP:20260425T152713Z
DTSTART:20180225T130000Z
DTEND:20180228T160000Z
SUMMARY:Workshop: Translating News & Views: Media Translation’s Art of Mediation
LOCATION:Room A015\, LAS Building\, Education City
URL:http://tii.qa/en/media-translation
END:VEVENT
END:VCALENDAR