BEGIN:VCALENDAR
VERSION:2.0
PRODID:-//Drupal//Custom iCal//EN
BEGIN:VEVENT
UID:45fd8b950ba79c399cbfbe1edee9944f
DTSTAMP:20260420T210608Z
DTSTART:20260419T000000Z
DTEND:20260604T205900Z
SUMMARY:Language Courses
LOCATION:Online
URL:https://www.tii.qa/LC
END:VEVENT
END:VCALENDAR