BEGIN:VCALENDAR
VERSION:2.0
PRODID:-//Drupal//Custom iCal//EN
BEGIN:VEVENT
UID:ec4584b1e90c8b2d238636a7652a92d3
DTSTAMP:20260420T210521Z
DTSTART:20260510T083000Z
DTEND:20260723T000000Z
SUMMARY:Summer Internship Program 2026
LOCATION:Online
URL:https://docs.google.com/forms/d/e/1FAIpQLSedN9CBhi4i2hRBcDdyMI40BKiddr7fcypFCjHROe9M7vHMJw/formResponse
END:VEVENT
END:VCALENDAR