BEGIN:VCALENDAR
VERSION:2.0
PRODID:-//Drupal//Custom iCal//EN
BEGIN:VEVENT
UID:0011dcaf3b5be115414bd26c56cc16ee
DTSTAMP:20260421T081701Z
DTSTART:20260216T180000Z
DTEND:20260216T170000Z
SUMMARY:College of Science and Engineering Undergraduate Studies Information Session
LOCATION:Online
URL:https://app.micetribe.com/register/workspaces/cse/events/7240_cse/forms/attendee?focus=false
END:VEVENT
END:VCALENDAR