BEGIN:VCALENDAR
VERSION:2.0
PRODID:-//Drupal//Custom iCal//EN
BEGIN:VEVENT
UID:f8c7902635a53456db7a7982b5c023af
DTSTAMP:20260421T081659Z
DTSTART:20260216T180000Z
DTEND:20260216T170000Z
SUMMARY:College of Science and Engineering Graduate Studies Information Session
LOCATION:Online
URL:https://app.micetribe.com/register/workspaces/cse/events/7239_cse/forms/attendee?focus=false
END:VEVENT
END:VCALENDAR