BEGIN:VCALENDAR
VERSION:2.0
PRODID:-//Drupal//Custom iCal//EN
BEGIN:VEVENT
UID:53720da7b3a796d71c2bcd23a8da7022
DTSTAMP:20260423T083630Z
DTSTART:20260503T160000Z
DTEND:20260507T000000Z
SUMMARY:The Power of Words
LOCATION:Online
URL:https://tii.qa/community
END:VEVENT
END:VCALENDAR