BEGIN:VCALENDAR
VERSION:2.0
PRODID:-//Drupal//Custom iCal//EN
BEGIN:VEVENT
UID:a1c06422cfd0acdf6d5e1e22fcd97bb3
DTSTAMP:20260423T084726Z
DTSTART:20260202T110000Z
DTEND:20260202T100000Z
SUMMARY:Launch Event 
LOCATION:Auditorium\, Minaretein\, Education City
URL:https://app.micetribe.com/public/workspaces/cse/events/cse_6999/forms/attendee
END:VEVENT
END:VCALENDAR