BEGIN:VCALENDAR
VERSION:2.0
PRODID:-//Drupal//Custom iCal//EN
BEGIN:VEVENT
UID:d83f9cda5a2304e7c09cc0c0473b8f3b
DTSTAMP:20260421T081658Z
DTSTART:20251214T080000Z
DTEND:20251215T000000Z
SUMMARY:Capacity-Building Workshop
LOCATION:Alwadi Hotel Doha\, Msheireb
URL:https://app.micetribe.com/public/workspaces/cpp/events/cpp_7022/forms/attendee
END:VEVENT
END:VCALENDAR