BEGIN:VCALENDAR
VERSION:2.0
PRODID:-//Drupal//Custom iCal//EN
BEGIN:VEVENT
UID:75194de3d9ec99b5038e0c500cd0a16d
DTSTAMP:20260424T163757Z
DTSTART:20251112T123000Z
DTEND:20251112T123000Z
SUMMARY:The History of Islamic Medicine
LOCATION:Auditorium\, Minaretein\, Education City
URL:https://app.micetribe.com/public/workspaces/cis/events/cis_6799/forms/visitor
END:VEVENT
END:VCALENDAR