BEGIN:VCALENDAR
VERSION:2.0
PRODID:-//Drupal//Custom iCal//EN
BEGIN:VEVENT
UID:fc7163b1e0bdc2a532cc5c91fe6844de
DTSTAMP:20260420T181336Z
DTSTART:20251029T080000Z
DTEND:20251029T120000Z
SUMMARY:Joint Capacity-Building Seminar on Corporate Sustainability Reporting
LOCATION:Auditorium\, Minaretein\, Education City
URL:https://app.micetribe.com/public/workspaces/cis/events/cis_6756/forms/visitor
END:VEVENT
END:VCALENDAR