BEGIN:VCALENDAR
VERSION:2.0
PRODID:-//Drupal//Custom iCal//EN
BEGIN:VEVENT
UID:6bd77e2fc7753c35462443e744790f57
DTSTAMP:20260422T172040Z
DTSTART:20251027T140000Z
DTEND:20251027T123000Z
SUMMARY:Hidden Genocide, Forced Famines, and Oral Historical Evidence
LOCATION:Conference Room 1\, Minaretein\, Education City
URL:https://app.micetribe.com/public/workspaces/col/events/cl_6706/forms/attendee
END:VEVENT
END:VCALENDAR