BEGIN:VCALENDAR
VERSION:2.0
PRODID:-//Drupal//Custom iCal//EN
BEGIN:VEVENT
UID:c2cc486b8af78ecb0a937d4793e734d5
DTSTAMP:20260424T205754Z
DTSTART:20250928T193000Z
DTEND:20250928T180000Z
SUMMARY:Prophet’s Sirah in the World’s Languages: Bosnian Language
LOCATION:Conference Room 1\, Minaretein\, Education City
URL:
END:VEVENT
END:VCALENDAR