BEGIN:VCALENDAR
VERSION:2.0
PRODID:-//Drupal//Custom iCal//EN
BEGIN:VEVENT
UID:29a9d1de2d78997224872e96d7497ba3
DTSTAMP:20260424T163404Z
DTSTART:20250914T000000Z
DTEND:20251204T205900Z
SUMMARY:Ummahat al-Kutub Lecture Series
LOCATION:C.04.004\, Minaretein\, Education City
URL:
END:VEVENT
END:VCALENDAR