BEGIN:VCALENDAR
VERSION:2.0
PRODID:-//Drupal//Custom iCal//EN
BEGIN:VEVENT
UID:71ae91d3fde1f34046ee74492ad9f483
DTSTAMP:20260423T083630Z
DTSTART:20260614T160000Z
DTEND:20260618T000000Z
SUMMARY:Medical Translation
LOCATION:Online
URL:http://www.tii.qa/community
END:VEVENT
END:VCALENDAR