BEGIN:VCALENDAR
VERSION:2.0
PRODID:-//Drupal//Custom iCal//EN
BEGIN:VEVENT
UID:24ca8f9a757a0572a6e0c3c2f2f25cb3
DTSTAMP:20260422T164952Z
DTSTART:20260204T080000Z
DTEND:20260205T000000Z
SUMMARY:2nd International Symposium on Islamic Psychology
LOCATION:
URL:
END:VEVENT
END:VCALENDAR