BEGIN:VCALENDAR
VERSION:2.0
PRODID:-//Drupal//Custom iCal//EN
BEGIN:VEVENT
UID:e66fc1fac6b861badccc498f66a46372
DTSTAMP:20260422T174738Z
DTSTART:20250928T083000Z
DTEND:20250929T000000Z
SUMMARY:Hadaba 25
LOCATION:Minaretein\, Education City
URL:https://app.micetribe.com/public/workspaces/cpp/events/cpp_6459/forms/attendee
END:VEVENT
END:VCALENDAR