BEGIN:VCALENDAR
VERSION:2.0
PRODID:-//Drupal//Custom iCal//EN
BEGIN:VEVENT
UID:7ffe1b3a74c2fec282a88ba76f83ac17
DTSTAMP:20260423T021452Z
DTSTART:20250412T080000Z
DTEND:20250412T143000Z
SUMMARY:Personalized Exercise Prescription for Chronic Disease Management Symposium
LOCATION:Auditorium\, Minaretein\, Education City
URL:https://app.micetribe.com/public/workspaces/chls/events/chls_6263/forms/attendee
END:VEVENT
END:VCALENDAR