BEGIN:VCALENDAR
VERSION:2.0
PRODID:-//Drupal//Custom iCal//EN
BEGIN:VEVENT
UID:20242d7cda6069282459ecbb78f32edf
DTSTAMP:20260423T021448Z
DTSTART:20250225T110000Z
DTEND:20250225T130000Z
SUMMARY:Management of Incidental Findings
LOCATION:Conference Room 1\, Minaretein\, Education City
URL:https://app.micetribe.com/public/workspaces/cis/events/cis_5891/forms/visitor
END:VEVENT
END:VCALENDAR