BEGIN:VCALENDAR
VERSION:2.0
PRODID:-//Drupal//Custom iCal//EN
BEGIN:VEVENT
UID:a8cc685d7b57e17d2cb0701f5440069b
DTSTAMP:20260419T125735Z
DTSTART:20180602T053000Z
DTEND:20180602T110000Z
SUMMARY:SAT Test
LOCATION:
URL:
END:VEVENT
END:VCALENDAR