BEGIN:VCALENDAR
VERSION:2.0
PRODID:-//Drupal//Custom iCal//EN
BEGIN:VEVENT
UID:11416125877b1e84f319f32df520b725
DTSTAMP:20260420T181337Z
DTSTART:20171003T043000Z
DTEND:20171005T123000Z
SUMMARY:Roundtable: Shariah Governance in a Globalized World
LOCATION:Conference room1\, College of Islamic Studies Building\, Education City
URL:
END:VEVENT
END:VCALENDAR