BEGIN:VCALENDAR
VERSION:2.0
PRODID:-//Drupal//Custom iCal//EN
BEGIN:VEVENT
UID:c24e755d3d82b8c343a384edc9cbfdd7
DTSTAMP:20260424T052519Z
DTSTART:20250518T083000Z
DTEND:20250710T000000Z
SUMMARY: Summer Research Program (SRP) 2025
LOCATION:B2\, Researchery\, Education City
URL:https://hbku.wufoo.com/forms/zgdh4b300lunke/
END:VEVENT
END:VCALENDAR