BEGIN:VCALENDAR
VERSION:2.0
PRODID:-//Drupal//Custom iCal//EN
BEGIN:VEVENT
UID:c791289ca2e6e0baac17ad35dd1cec03
DTSTAMP:20260423T010821Z
DTSTART:20250209T110000Z
DTEND:20250209T123000Z
SUMMARY:Inaugural UNESCO Chair on Environmental Law and Sustainable Development Distinguished Speaker Series
LOCATION:Auditorium (HQ G.102)\, Ground Floor\, 2015 Building (Qatar Foundation Headquarters)
URL:https://app.micetribe.com/public/workspaces/col/events/cl_5876/forms/attendee
END:VEVENT
END:VCALENDAR