BEGIN:VCALENDAR
VERSION:2.0
PRODID:-//Drupal//Custom iCal//EN
BEGIN:VEVENT
UID:88a95107b90280c33d2088e367157716
DTSTAMP:20260420T023222Z
DTSTART:20241111T110000Z
DTEND:20241111T120000Z
SUMMARY:Digital Twins and AI for Renewable Energy Systems
LOCATION:Multipurpose room\, Researchery\, Education City
URL:https://app.micetribe.com/public/workspaces/qeeri/events/qeeri_5421/forms/attendees
END:VEVENT
END:VCALENDAR