BEGIN:VCALENDAR
VERSION:2.0
PRODID:-//Drupal//Custom iCal//EN
BEGIN:VEVENT
UID:afda7ee20300f0e4f79205a53fa94090
DTSTAMP:20260420T023222Z
DTSTART:20241002T110000Z
DTEND:20241002T120000Z
SUMMARY:Sustainable Futures
LOCATION:Online
URL:https://app.micetribe.com/public/workspaces/qeeri/events/qeeri_5509/forms/attendee
END:VEVENT
END:VCALENDAR