BEGIN:VCALENDAR
VERSION:2.0
PRODID:-//Drupal//Custom iCal//EN
BEGIN:VEVENT
UID:da50e3e9b7d659f5bb5574d7430c9246
DTSTAMP:20260420T023258Z
DTSTART:20241003T110000Z
DTEND:20241003T120000Z
SUMMARY:Power Grids & Innovation
LOCATION:Online
URL:https://app.micetribe.com/public/workspaces/qeeri/events/qeeri_5520/forms/attendee
END:VEVENT
END:VCALENDAR