BEGIN:VCALENDAR
VERSION:2.0
PRODID:-//Drupal//Custom iCal//EN
BEGIN:VEVENT
UID:d146cc3fd6d698902326cacca729ca19
DTSTAMP:20260420T023108Z
DTSTART:20241001T110000Z
DTEND:20241001T120000Z
SUMMARY:Being Water-Wise
LOCATION:Online
URL:https://app.micetribe.com/public/workspaces/qeeri/events/qeeri_5496/forms/visitor
END:VEVENT
END:VCALENDAR