BEGIN:VCALENDAR
VERSION:2.0
PRODID:-//Drupal//Custom iCal//EN
BEGIN:VEVENT
UID:bf2852dee7af624882f1dafc33523bab
DTSTAMP:20260425T103958Z
DTSTART:20240916T153000Z
DTEND:20240916T170000Z
SUMMARY:Training the Next Generation of Islamic Psychology Practitioners
LOCATION:Conference Room 1\, Minaretein\, Education City
URL:https://app.micetribe.com/public/workspaces/cis/events/cis_5411/forms/visitor
END:VEVENT
END:VCALENDAR