BEGIN:VCALENDAR
VERSION:2.0
PRODID:-//Drupal//Custom iCal//EN
BEGIN:VEVENT
UID:f9b46ac527e97a4c66f8651727984dbb
DTSTAMP:20260423T010820Z
DTSTART:20241023T060000Z
DTEND:20241024T060000Z
SUMMARY:RULE OF LAW FORUM 2024
LOCATION:
URL:
END:VEVENT
END:VCALENDAR