BEGIN:VCALENDAR
VERSION:2.0
PRODID:-//Drupal//Custom iCal//EN
BEGIN:VEVENT
UID:e15997563485161a347ff45e01c276e7
DTSTAMP:20260422T171918Z
DTSTART:20240922T000000Z
DTEND:20240924T000000Z
SUMMARY:Summit of the Future
LOCATION:Exhibition Area\, Minaretein\, Education City
URL:https://app.micetribe.com/public/workspaces/cpp/events/cpp_5233_1/forms/attendee
END:VEVENT
END:VCALENDAR