BEGIN:VCALENDAR
VERSION:2.0
PRODID:-//Drupal//Custom iCal//EN
BEGIN:VEVENT
UID:7fae1e5e409a1e678bc7749e34d37f3f
DTSTAMP:20260424T043933Z
DTSTART:20240519T053000Z
DTEND:20240718T123000Z
SUMMARY:Summer Research Program 2024
LOCATION:Qatar Environment & Energy Research Institute\, Researchery\, Education City 
URL:https://hbku.wufoo.com/forms/z1cgymdx08kwnoz/
END:VEVENT
END:VCALENDAR