BEGIN:VCALENDAR
VERSION:2.0
PRODID:-//Drupal//Custom iCal//EN
BEGIN:VEVENT
UID:0c73ce98cb1477acf0a454d4d5a839ca
DTSTAMP:20260421T081700Z
DTSTART:20240512T053000Z
DTEND:20240725T205900Z
SUMMARY:Summer Research Program 2024
LOCATION:
URL:https://docs.google.com/forms/d/e/1FAIpQLSdTp801-PJKfCv1AyZfuYqER0WSqo2MmmfbnauopOxy0BXsJQ/viewform
END:VEVENT
END:VCALENDAR