BEGIN:VCALENDAR
VERSION:2.0
PRODID:-//Drupal//Custom iCal//EN
BEGIN:VEVENT
UID:0e2b5a8509e402ad40477fa4185c5aef
DTSTAMP:20260422T171938Z
DTSTART:20240430T053000Z
DTEND:20240430T091500Z
SUMMARY:Policy Futures
LOCATION:Workinton Alfardan Centre
URL:https://app.micetribe.com/public/workspaces/cpp/events/cpp_4615/forms/attendee
END:VEVENT
END:VCALENDAR