BEGIN:VCALENDAR
VERSION:2.0
PRODID:-//Drupal//Custom iCal//EN
BEGIN:VEVENT
UID:1e34a2b4b29470997a757a01805326cf
DTSTAMP:20260419T225140Z
DTSTART:20240302T053000Z
DTEND:20240302T123000Z
SUMMARY:Cybersecurity Workshop for High School Students
LOCATION:A017\, Penrose House\, Education City
URL:https://hbku.wufoo.com/forms/z1c2htn907imt8y/
END:VEVENT
END:VCALENDAR