BEGIN:VCALENDAR
VERSION:2.0
PRODID:-//Drupal//Custom iCal//EN
BEGIN:VEVENT
UID:70c2d37eaf092c8c8bfb6bfa5d3644d7
DTSTAMP:20260424T052513Z
DTSTART:20240519T083000Z
DTEND:20240718T000000Z
SUMMARY:Summer Research Program 2024
LOCATION:
URL:https://hbku.wufoo.com/forms/z1bjo6mv0zo5qb5/
END:VEVENT
END:VCALENDAR