BEGIN:VCALENDAR
VERSION:2.0
PRODID:-//Drupal//Custom iCal//EN
BEGIN:VEVENT
UID:ff6e74e77bd2fe0b2ddacd171bf8e4fc
DTSTAMP:20260419T160252Z
DTSTART:20240107T100000Z
DTEND:20240107T080000Z
SUMMARY:Atmospheric Water Generation – Perspectives on Performance and Scalability
LOCATION:Multipurpose room\, Researchery\, Education City
URL:https://app.micetribe.com/public/workspaces/qeeri/events/4804qeeri/forms/attendee
END:VEVENT
END:VCALENDAR