BEGIN:VCALENDAR
VERSION:2.0
PRODID:-//Drupal//Custom iCal//EN
BEGIN:VEVENT
UID:ea27bb402ca2c24f415f3c0af544944a
DTSTAMP:20260424T043933Z
DTSTART:20231203T000000Z
DTEND:20231206T000000Z
SUMMARY:BIFIPV DOHA 2023
LOCATION:Minaretein\, Education City\, Doha
URL:https://www.bifipv-workshop.com/doharegistration
END:VEVENT
END:VCALENDAR