BEGIN:VCALENDAR
VERSION:2.0
PRODID:-//Drupal//Custom iCal//EN
BEGIN:VEVENT
UID:e9dce5c4eca20f81df0eeb62a76469e3
DTSTAMP:20260422T172901Z
DTSTART:20230927T113000Z
DTEND:20230927T113000Z
SUMMARY:Policymaking at the Edge: Facing Complexity Embracing Uncertainty
LOCATION:
URL:
END:VEVENT
END:VCALENDAR