BEGIN:VCALENDAR
VERSION:2.0
PRODID:-//Drupal//Custom iCal//EN
BEGIN:VEVENT
UID:d350b5769966a0275e1eb147ec97bbed
DTSTAMP:20260422T173323Z
DTSTART:20230926T110000Z
DTEND:20230926T110000Z
SUMMARY:Indigeneity in Policy: Arts, Emotions, and Culture
LOCATION:
URL:
END:VEVENT
END:VCALENDAR