BEGIN:VCALENDAR
VERSION:2.0
PRODID:-//Drupal//Custom iCal//EN
BEGIN:VEVENT
UID:05911a01b72ed666efce97263818262c
DTSTAMP:20260419T212830Z
DTSTART:20231122T123000Z
DTEND:20231122T143000Z
SUMMARY:Workshop | AI & Arabic Calligraphy: Crafting Calligraphy in the Digital Age 
LOCATION:Computer Lab\, Qatar National Library\, Education City
URL:https://events.qnl.qa/event/gePGb/EN
END:VEVENT
END:VCALENDAR