BEGIN:VCALENDAR
VERSION:2.0
PRODID:-//Drupal//Custom iCal//EN
BEGIN:VEVENT
UID:93672271409fdc64bebd8d1c64f9c8b8
DTSTAMP:20260419T212751Z
DTSTART:20231115T123000Z
DTEND:20231115T133000Z
SUMMARY:Seminar | AI & Arabic Calligraphy: Crafting Calligraphy in the Digital Age 
LOCATION:Auditorium\, Qatar National Library
URL:https://events.qnl.qa/event/4A1Lo/EN
END:VEVENT
END:VCALENDAR