BEGIN:VCALENDAR
VERSION:2.0
PRODID:-//Drupal//Custom iCal//EN
BEGIN:VEVENT
UID:54015583283be35e27c4166fa2fbee92
DTSTAMP:20260425T135801Z
DTSTART:20230319T090000Z
DTEND:20230319T100000Z
SUMMARY:6G’s Enabling Technologies
LOCATION:Penrose House (LAS building)\, Education City
URL:https://app.micetribe.com/public/workspaces/cse/events/cse-3964/forms/vis
END:VEVENT
END:VCALENDAR