BEGIN:VCALENDAR
VERSION:2.0
PRODID:-//Drupal//Custom iCal//EN
BEGIN:VEVENT
UID:1233c95ee60c95bd3fbbc6eae54c8e7d
DTSTAMP:20260421T081659Z
DTSTART:20230507T053000Z
DTEND:20230803T123000Z
SUMMARY:Summer Research Program 2023
LOCATION:
URL:https://forms.gle/STKzwYqXz3XvgKJq7
END:VEVENT
END:VCALENDAR