BEGIN:VCALENDAR
VERSION:2.0
PRODID:-//Drupal//Custom iCal//EN
BEGIN:VEVENT
UID:712bddf91db7a414b3a2a4c9cd51d36e
DTSTAMP:20260424T052512Z
DTSTART:20230514T053000Z
DTEND:20230713T123000Z
SUMMARY:Summer Research Program 2023
LOCATION:
URL:https://hbku.wufoo.com/forms/z1ogmstr0lkloat/
END:VEVENT
END:VCALENDAR