BEGIN:VCALENDAR
VERSION:2.0
PRODID:-//Drupal//Custom iCal//EN
BEGIN:VEVENT
UID:393118a002fcfcdca18ab9745f7f9897
DTSTAMP:20260419T131705Z
DTSTART:20230111T120000Z
DTEND:20230111T133000Z
SUMMARY:Language Fair Spring 2023
LOCATION:Penrose House\, Education City
URL:http://tii.qa/LCfair
END:VEVENT
END:VCALENDAR