BEGIN:VCALENDAR
VERSION:2.0
PRODID:-//Drupal//Custom iCal//EN
BEGIN:VEVENT
UID:6b4109e9b9de32acf5c2b513309fe16c
DTSTAMP:20260421T125644Z
DTSTART:20220908T110000Z
DTEND:20220908T123000Z
SUMMARY:The Role of Higher Education Institutions in Diplomatic Interventions
LOCATION:Conference Room 1\, Minaretein\, Education City
URL:https://app.micetribe.com/public/workspaces/cpp/events/cpp-3066/forms/vis
END:VEVENT
END:VCALENDAR